BEGIN:VCALENDAR
PRODID:-//eluceo/ical//2.0/EN
VERSION:2.0
CALSCALE:GREGORIAN
BEGIN:VEVENT
UID:5d7814f6941e3ffb6ff0a5641b905008
DTSTAMP:20260425T130354Z
SUMMARY:Vortrag "Das soziale Basel im Umbruch"
DESCRIPTION:Web stranica: http://www.volkshaus-basel.ch\nGovornik(ci): Dr. 
 Ruth Ludwig-Hagemann\, GGG Basel
URL:https://rc-baselwettstein.ch/bs/agenda/show/126405
DTSTART;TZID=Europe/Zurich:20211108T120000
DTEND;TZID=Europe/Zurich:20211108T120000
LOCATION:Volkshaus\, Rebgasse 12-14\, 4058 Basel
CATEGORIES:Rotary
END:VEVENT
BEGIN:VTIMEZONE
TZID:Europe/Zurich
BEGIN:STANDARD
DTSTART:20211108T120000
TZNAME:CET
TZOFFSETTO:+0100
TZOFFSETFROM:+0100
END:STANDARD
END:VTIMEZONE
END:VCALENDAR
