BEGIN:VCALENDAR
PRODID:-//eluceo/ical//2.0/EN
VERSION:2.0
CALSCALE:GREGORIAN
BEGIN:VEVENT
UID:b1bb71b8f951cb544b689151afb0e2b3
DTSTAMP:20260425T103247Z
SUMMARY:Vortrag "Das Antikenmuseum der Zukunft"
DESCRIPTION:Web stranica: http://www.volkshaus-basel.ch\nGovornik(ci): Dr. 
 Andrea Bignasca\, Direktor Antikenmuseum Basel
URL:https://rc-baselwettstein.ch/bs/agenda/show/126406
DTSTART;TZID=Europe/Zurich:20211115T120000
DTEND;TZID=Europe/Zurich:20211115T120000
LOCATION:Volkshaus\, Rebgasse 12-14\, 4058 Basel
CATEGORIES:Rotary
END:VEVENT
BEGIN:VTIMEZONE
TZID:Europe/Zurich
BEGIN:STANDARD
DTSTART:20211115T120000
TZNAME:CET
TZOFFSETTO:+0100
TZOFFSETFROM:+0100
END:STANDARD
END:VTIMEZONE
END:VCALENDAR
