BEGIN:VCALENDAR
PRODID:-//eluceo/ical//2.0/EN
VERSION:2.0
CALSCALE:GREGORIAN
BEGIN:VEVENT
UID:254648d5ac8bfca018ec7ffc83bf2eb8
DTSTAMP:20260423T060529Z
SUMMARY:Blockchain - mehr als Bitcoin
DESCRIPTION:Web stranica: http://www.volkshaus-basel.ch\nGovornik(ci): Rot.
  Prof. Dr. Fabian Schär\, Universität Basel
URL:https://rc-baselwettstein.ch/bs/agenda/show/135878
DTSTART;TZID=Europe/Zurich:20220314T120000
DTEND;TZID=Europe/Zurich:20220314T133000
LOCATION:Volkshaus\, Rebgasse 12-14\, 4058 Basel
CATEGORIES:Rotary
END:VEVENT
BEGIN:VTIMEZONE
TZID:Europe/Zurich
BEGIN:STANDARD
DTSTART:20220314T120000
TZNAME:CET
TZOFFSETTO:+0100
TZOFFSETFROM:+0100
END:STANDARD
END:VTIMEZONE
END:VCALENDAR
