BEGIN:VCALENDAR
PRODID:-//eluceo/ical//2.0/EN
VERSION:2.0
CALSCALE:GREGORIAN
BEGIN:VEVENT
UID:2866359f6faac28b8f5f20acd9b4a793
DTSTAMP:20260423T054626Z
SUMMARY:Israelitische Gemeinde Basel
DESCRIPTION:Web stranica: http://www.volkshaus-basel.ch\nGovornik(ci): Isab
 el Schlerkmann\, Geschäftsführerin IGB
URL:https://rc-baselwettstein.ch/bs/agenda/show/135881
DTSTART;TZID=Europe/Zurich:20220425T120000
DTEND;TZID=Europe/Zurich:20220425T133000
LOCATION:Volkshaus\, Rebgasse 12-14\, 4058 Basel
CATEGORIES:Rotary
END:VEVENT
BEGIN:VTIMEZONE
TZID:Europe/Zurich
BEGIN:DAYLIGHT
DTSTART:20220425T120000
TZNAME:CEST
TZOFFSETTO:+0200
TZOFFSETFROM:+0200
END:DAYLIGHT
END:VTIMEZONE
END:VCALENDAR
