BEGIN:VCALENDAR
PRODID:-//eluceo/ical//2.0/EN
VERSION:2.0
CALSCALE:GREGORIAN
BEGIN:VEVENT
UID:55ccdef180d955464c2e620c1d55dcef
DTSTAMP:20260423T023637Z
SUMMARY:Plauderlunch-Sommerausflug
DESCRIPTION:Web stranica: https://www.lerhinbleu.ch/
URL:https://rc-baselwettstein.ch/bs/agenda/show/144780
DTSTART;TZID=Europe/Zurich:20220808T120000
DTEND;TZID=Europe/Zurich:20220808T133000
LOCATION:Le Rhin Bleu\, St. Alban-Rheinweg 195\, 4052 Basel
CATEGORIES:Rotary
END:VEVENT
BEGIN:VTIMEZONE
TZID:Europe/Zurich
BEGIN:DAYLIGHT
DTSTART:20220808T120000
TZNAME:CEST
TZOFFSETTO:+0200
TZOFFSETFROM:+0200
END:DAYLIGHT
END:VTIMEZONE
END:VCALENDAR
