BEGIN:VCALENDAR
PRODID:-//eluceo/ical//2.0/EN
VERSION:2.0
CALSCALE:GREGORIAN
BEGIN:VEVENT
UID:5edd8442881d70bd00d982dccaa65c91
DTSTAMP:20260423T023535Z
SUMMARY:Lunch-Diskussion: Götti/Gotte-Leitfaden
DESCRIPTION:Web stranica: https://www.brauerei-basel.ch/
URL:https://rc-baselwettstein.ch/bs/agenda/show/144782
DTSTART;TZID=Europe/Zurich:20220815T120000
DTEND;TZID=Europe/Zurich:20220815T133000
LOCATION:Restaurant Brauerei (ENOTHEK)\, Grenzacherstrasse 60\, CH-4058 Bas
 el
CATEGORIES:Rotary
END:VEVENT
BEGIN:VTIMEZONE
TZID:Europe/Zurich
BEGIN:DAYLIGHT
DTSTART:20220815T120000
TZNAME:CEST
TZOFFSETTO:+0200
TZOFFSETFROM:+0200
END:DAYLIGHT
END:VTIMEZONE
END:VCALENDAR
