BEGIN:VCALENDAR
PRODID:-//eluceo/ical//2.0/EN
VERSION:2.0
CALSCALE:GREGORIAN
BEGIN:VEVENT
UID:43e089fe7ab321b1f8958198fd218153
DTSTAMP:20260423T055440Z
SUMMARY:Lunchvortrag: Die Aktualität der 4-Fragen-Probe\, Antonio Loprieno
DESCRIPTION:Web stranica: https://www.brauerei-basel.ch/
URL:https://rc-baselwettstein.ch/bs/agenda/show/144783
DTSTART;TZID=Europe/Zurich:20220829T120000
DTEND;TZID=Europe/Zurich:20220829T133000
LOCATION:Restaurant Brauerei (ENOTHEK)\, Grenzacherstrasse 60\, CH-4058 Bas
 el
CATEGORIES:Rotary
END:VEVENT
BEGIN:VTIMEZONE
TZID:Europe/Zurich
BEGIN:DAYLIGHT
DTSTART:20220829T120000
TZNAME:CEST
TZOFFSETTO:+0200
TZOFFSETFROM:+0200
END:DAYLIGHT
END:VTIMEZONE
END:VCALENDAR
