BEGIN:VCALENDAR
PRODID:-//eluceo/ical//2.0/EN
VERSION:2.0
CALSCALE:GREGORIAN
BEGIN:VEVENT
UID:36e185034c23a5b97573eb9342bbd949
DTSTAMP:20260423T020710Z
SUMMARY:RCBW Lunchvortrag: Update aus dem Gemeindienst\, Arno Wenger
DESCRIPTION:Web stranica: https://www.brauerei-basel.ch/
URL:https://rc-baselwettstein.ch/bs/agenda/show/150472
DTSTART;TZID=Europe/Zurich:20221114T120000
DTEND;TZID=Europe/Zurich:20221114T133000
LOCATION:Restaurant Brauerei (ENOTHEK)\, Grenzacherstrasse 60\, CH-4058 Bas
 el
CATEGORIES:Rotary
END:VEVENT
BEGIN:VTIMEZONE
TZID:Europe/Zurich
BEGIN:STANDARD
DTSTART:20221114T120000
TZNAME:CET
TZOFFSETTO:+0100
TZOFFSETFROM:+0100
END:STANDARD
END:VTIMEZONE
END:VCALENDAR
