BEGIN:VCALENDAR
PRODID:-//eluceo/ical//2.0/EN
VERSION:2.0
CALSCALE:GREGORIAN
BEGIN:VEVENT
UID:17089958b6f0803f3d1d09495af8bcfc
DTSTAMP:20260423T022513Z
SUMMARY:RCBW Abendanlass: Führung im Bürgerlichen Waisenhause Basel\, Din
 ner Restaurant Brauerei
DESCRIPTION:Govornik(ci): Programm gemäss separat versendeter Einladung
URL:https://rc-baselwettstein.ch/bs/agenda/show/154525
DTSTART;TZID=Europe/Zurich:20230215T174500
DTEND;TZID=Europe/Zurich:20230215T213000
LOCATION:Bürgerliches Waisenhaus Basel / Restaurant Brauerei
CATEGORIES:Rotary
END:VEVENT
BEGIN:VTIMEZONE
TZID:Europe/Zurich
BEGIN:STANDARD
DTSTART:20230215T174500
TZNAME:CET
TZOFFSETTO:+0100
TZOFFSETFROM:+0100
END:STANDARD
END:VTIMEZONE
END:VCALENDAR
