BEGIN:VCALENDAR
PRODID:-//eluceo/ical//2.0/EN
VERSION:2.0
CALSCALE:GREGORIAN
BEGIN:VEVENT
UID:5ef25b43e1d97b8fd92104647e2b4c1d
DTSTAMP:20260422T225839Z
SUMMARY:RCBW Plauder-Lunch
DESCRIPTION:Web stranica: http://www.volkshaus-basel.ch\nGovornik(ci): tbd
URL:https://rc-baselwettstein.ch/bs/agenda/show/158002
DTSTART;TZID=Europe/Zurich:20230327T120000
DTEND;TZID=Europe/Zurich:20230327T133000
LOCATION:Galleriesaal\, Volkshaus\, Rebgasse 12-14\, 4058 Basel
CATEGORIES:Rotary
END:VEVENT
BEGIN:VTIMEZONE
TZID:Europe/Zurich
BEGIN:DAYLIGHT
DTSTART:20230327T120000
TZNAME:CEST
TZOFFSETTO:+0200
TZOFFSETFROM:+0200
END:DAYLIGHT
END:VTIMEZONE
END:VCALENDAR
