BEGIN:VCALENDAR
PRODID:-//eluceo/ical//2.0/EN
VERSION:2.0
CALSCALE:GREGORIAN
BEGIN:VEVENT
UID:3df79b6050962ea5db2eac5e04a5ccb5
DTSTAMP:20260424T112251Z
SUMMARY:Kochen\, Geniessen\, Plaudern
DESCRIPTION:Web stranica: https://www.schaellenursli.ch/
URL:https://rc-baselwettstein.ch/bs/agenda/show/162865
DTSTART;TZID=Europe/Zurich:20230814T180000
DTEND;TZID=Europe/Zurich:20230814T220000
LOCATION:Rest. Schällenursli\, Margarethengut\, 4102 Binningen
CATEGORIES:Rotary
END:VEVENT
BEGIN:VTIMEZONE
TZID:Europe/Zurich
BEGIN:DAYLIGHT
DTSTART:20230814T180000
TZNAME:CEST
TZOFFSETTO:+0200
TZOFFSETFROM:+0200
END:DAYLIGHT
END:VTIMEZONE
END:VCALENDAR
