BEGIN:VCALENDAR
PRODID:-//eluceo/ical//2.0/EN
VERSION:2.0
CALSCALE:GREGORIAN
BEGIN:VEVENT
UID:fd889e0215d3c142b0a164088b2a9d97
DTSTAMP:20260422T212315Z
SUMMARY:RCBW Plauderlunch
DESCRIPTION:
URL:https://rc-baselwettstein.ch/bs/agenda/show/164979
DTSTART;TZID=Europe/Zurich:20230828T120000
DTEND;TZID=Europe/Zurich:20230828T133000
LOCATION:Enothek Siebe Dupf\, Grenzacherstrasse 62\, 4058 Basel\, Schweiz
CATEGORIES:Rotary
END:VEVENT
BEGIN:VTIMEZONE
TZID:Europe/Zurich
BEGIN:DAYLIGHT
DTSTART:20230828T120000
TZNAME:CEST
TZOFFSETTO:+0200
TZOFFSETFROM:+0200
END:DAYLIGHT
END:VTIMEZONE
END:VCALENDAR
