BEGIN:VCALENDAR
PRODID:-//eluceo/ical//2.0/EN
VERSION:2.0
CALSCALE:GREGORIAN
BEGIN:VEVENT
UID:06c18ca4d74eaf07824fe568789bf278
DTSTAMP:20260422T182205Z
SUMMARY:RCBW Plauderlunch Neuaufnahme Yves Cron & Dr. Beat Müller
DESCRIPTION:
URL:https://rc-baselwettstein.ch/bs/agenda/show/165001
DTSTART;TZID=Europe/Zurich:20231218T120000
DTEND;TZID=Europe/Zurich:20231218T133000
LOCATION:Enothek Siebe Dupf\, Grenzacherstrasse 62\, 4058 Basel\, Schweiz
CATEGORIES:Rotary
END:VEVENT
BEGIN:VTIMEZONE
TZID:Europe/Zurich
BEGIN:STANDARD
DTSTART:20231218T120000
TZNAME:CET
TZOFFSETTO:+0100
TZOFFSETFROM:+0100
END:STANDARD
END:VTIMEZONE
END:VCALENDAR
