BEGIN:VCALENDAR
PRODID:-//eluceo/ical//2.0/EN
VERSION:2.0
CALSCALE:GREGORIAN
BEGIN:VEVENT
UID:d9af5eea8f39bdfdc46a1dbd71b6f992
DTSTAMP:20260424T131820Z
SUMMARY:RCBW Plauderlunch
DESCRIPTION:Govornik(ci): 
URL:https://rc-baselwettstein.ch/bs/agenda/show/168662
DTSTART;TZID=Europe/Zurich:20231023T120000
DTEND;TZID=Europe/Zurich:20231023T133000
LOCATION:Enothek Siebe Dupf\, Grenzacherstrasse 62\, 4058 Basel\, Schweiz
CATEGORIES:Rotary
END:VEVENT
BEGIN:VTIMEZONE
TZID:Europe/Zurich
BEGIN:DAYLIGHT
DTSTART:20231023T120000
TZNAME:CEST
TZOFFSETTO:+0200
TZOFFSETFROM:+0200
END:DAYLIGHT
END:VTIMEZONE
END:VCALENDAR
