BEGIN:VCALENDAR
PRODID:-//eluceo/ical//2.0/EN
VERSION:2.0
CALSCALE:GREGORIAN
BEGIN:VEVENT
UID:3d5ed28de5ccd883c3e2087bb19ed46a
DTSTAMP:20260423T151116Z
SUMMARY:RCBW: Stabsübergabe (Botanischer Garten Basel\, Neues Tropenhaus /
  Restaurant Löwenzorn)
DESCRIPTION:Referenten/innen: 
URL:https://rc-baselwettstein.ch/de/agenda/show/153557
DTSTART;TZID=Europe/Zurich:20230617T100000
DTEND;TZID=Europe/Zurich:20230617T140000
LOCATION:Botanischer Garten Basel\, Neues Tropenhaus / Restaurant Löwenzor
 n
CATEGORIES:Rotary
END:VEVENT
BEGIN:VTIMEZONE
TZID:Europe/Zurich
BEGIN:DAYLIGHT
DTSTART:20230617T100000
TZNAME:CEST
TZOFFSETTO:+0200
TZOFFSETFROM:+0200
END:DAYLIGHT
END:VTIMEZONE
END:VCALENDAR
