BEGIN:VCALENDAR
PRODID:-//eluceo/ical//2.0/EN
VERSION:2.0
CALSCALE:GREGORIAN
BEGIN:VEVENT
UID:c90b5b9f6d0a496d66ffa7aa74117408
DTSTAMP:20260423T150820Z
SUMMARY:RCBW: Spar-Lunch im "Grotto Bühler"
DESCRIPTION:
URL:https://rc-baselwettstein.ch/de/agenda/show/158007
DTSTART;TZID=Europe/Zurich:20230612T120000
DTEND;TZID=Europe/Zurich:20230612T133000
LOCATION:Markus Bühler\, Niggi Safarik: Schaffhauserrheinweg 115\, Basel
CATEGORIES:Rotary
END:VEVENT
BEGIN:VTIMEZONE
TZID:Europe/Zurich
BEGIN:DAYLIGHT
DTSTART:20230612T120000
TZNAME:CEST
TZOFFSETTO:+0200
TZOFFSETFROM:+0200
END:DAYLIGHT
END:VTIMEZONE
END:VCALENDAR
