BEGIN:VCALENDAR
PRODID:-//eluceo/ical//2.0/EN
VERSION:2.0
CALSCALE:GREGORIAN
BEGIN:VEVENT
UID:864c03e5f74efa10ff003ed397c0b8c1
DTSTAMP:20260423T164923Z
SUMMARY:RCBW-Lunch: Klassifikationsvortrag Christian Dube
DESCRIPTION:Webseite: http://www.volkshaus-basel.ch\nReferenten/innen: Chri
 stian Dube\, HR Business Partner Takeda
URL:https://rc-baselwettstein.ch/de/agenda/show/159051
DTSTART;TZID=Europe/Zurich:20230605T120000
DTEND;TZID=Europe/Zurich:20230605T133000
LOCATION:Galleriesaal\, Volkshaus\, Rebgasse 12-14\, 4058 Basel
CATEGORIES:Rotary
END:VEVENT
BEGIN:VTIMEZONE
TZID:Europe/Zurich
BEGIN:DAYLIGHT
DTSTART:20230605T120000
TZNAME:CEST
TZOFFSETTO:+0200
TZOFFSETFROM:+0200
END:DAYLIGHT
END:VTIMEZONE
END:VCALENDAR
