BEGIN:VCALENDAR
PRODID:-//eluceo/ical//2.0/EN
VERSION:2.0
CALSCALE:GREGORIAN
BEGIN:VEVENT
UID:9373d981336272e621713ccfc3cc171f
DTSTAMP:20260423T150540Z
SUMMARY:RCBW Plauder-Lunch
DESCRIPTION:Webseite: https://www.brauerei-basel.ch/#enothek
URL:https://rc-baselwettstein.ch/de/agenda/show/159052
DTSTART;TZID=Europe/Zurich:20230619T120000
DTEND;TZID=Europe/Zurich:20230619T133000
LOCATION:Enothek\, Restaurant Brauerei\, Grenzacher Strasse 60\, Basel (bei
  schönen Wetter im Garten)
CATEGORIES:Rotary
END:VEVENT
BEGIN:VTIMEZONE
TZID:Europe/Zurich
BEGIN:DAYLIGHT
DTSTART:20230619T120000
TZNAME:CEST
TZOFFSETTO:+0200
TZOFFSETFROM:+0200
END:DAYLIGHT
END:VTIMEZONE
END:VCALENDAR
