BEGIN:VCALENDAR
PRODID:-//eluceo/ical//2.0/EN
VERSION:2.0
CALSCALE:GREGORIAN
BEGIN:VEVENT
UID:67d0bc5523978964ffb6b1f80530317d
DTSTAMP:20260423T133337Z
SUMMARY:1. August - KEIN Lunch
DESCRIPTION:
URL:https://rc-baselwettstein.ch/en/agenda/show/144781
DTSTART;TZID=Europe/Zurich:20220801T120000
DTEND;TZID=Europe/Zurich:20220801T120000
LOCATION:KEIN Lunch
CATEGORIES:Rotary
END:VEVENT
BEGIN:VTIMEZONE
TZID:Europe/Zurich
BEGIN:DAYLIGHT
DTSTART:20220801T120000
TZNAME:CEST
TZOFFSETTO:+0200
TZOFFSETFROM:+0200
END:DAYLIGHT
END:VTIMEZONE
END:VCALENDAR
