BEGIN:VCALENDAR
PRODID:-//eluceo/ical//2.0/EN
VERSION:2.0
CALSCALE:GREGORIAN
BEGIN:VEVENT
UID:5210f7e4343ad168cb94f41ca36caff4
DTSTAMP:20260421T154209Z
SUMMARY:Vortrag "Organs on Chips"
DESCRIPTION:Sitio web: http://www.volkshaus-basel.ch\nOrador(es): \n\n\n\n\
 n\n\n\n\n\n\n\n\n\n\n\n\n\n\n\nEkaterina\nBreous-Nystrom\, PhD\, \n\n\n\n\
 n\n\n\n\n\n\n\n\n\n\n\n\n\n\n\nHead iSAFE-Toxicology \, Roche AG&nbsp\;\n\
 n\n\n
URL:https://rc-baselwettstein.ch/es/agenda/show/126402
DTSTART;TZID=Europe/Zurich:20211025T120000
DTEND;TZID=Europe/Zurich:20211025T120000
LOCATION:Volkshaus\, Rebgasse 12-14\, 4058 Basel
CATEGORIES:Rotary
END:VEVENT
BEGIN:VTIMEZONE
TZID:Europe/Zurich
BEGIN:DAYLIGHT
DTSTART:20211025T120000
TZNAME:CEST
TZOFFSETTO:+0200
TZOFFSETFROM:+0200
END:DAYLIGHT
END:VTIMEZONE
END:VCALENDAR
