BEGIN:VCALENDAR
PRODID:-//eluceo/ical//2.0/EN
VERSION:2.0
CALSCALE:GREGORIAN
BEGIN:VEVENT
UID:c4bde3ddd9f94d06b7f0745a7fb890bd
DTSTAMP:20260424T112050Z
SUMMARY:RCBW Plauder-Lunch
DESCRIPTION:Sitio web: https://www.lerhinbleu.ch/
URL:https://rc-baselwettstein.ch/es/agenda/show/162619
DTSTART;TZID=Europe/Zurich:20230710T121500
DTEND;TZID=Europe/Zurich:20230710T133000
LOCATION:Le Rhin Bleu / Rheinbad Breite\, St. Alban-Rheinweg 195\, 4052 Bas
 el\, Schweiz
CATEGORIES:Rotary
END:VEVENT
BEGIN:VTIMEZONE
TZID:Europe/Zurich
BEGIN:DAYLIGHT
DTSTART:20230710T121500
TZNAME:CEST
TZOFFSETTO:+0200
TZOFFSETFROM:+0200
END:DAYLIGHT
END:VTIMEZONE
END:VCALENDAR
