BEGIN:VCALENDAR
PRODID:-//eluceo/ical//2.0/EN
VERSION:2.0
CALSCALE:GREGORIAN
BEGIN:VEVENT
UID:62f2dd604928dd14dc26a26d2c89f4bf
DTSTAMP:20260421T151257Z
SUMMARY:Buchvernissage
DESCRIPTION:Site internet: http://www.volkshaus-basel.ch
URL:https://rc-baselwettstein.ch/fr/agenda/show/126404
DTSTART;TZID=Europe/Zurich:20211101T120000
DTEND;TZID=Europe/Zurich:20211101T120000
LOCATION:Volkshaus\, Rebgasse 12-14\, 4058 Basel
CATEGORIES:Rotary
END:VEVENT
BEGIN:VTIMEZONE
TZID:Europe/Zurich
BEGIN:STANDARD
DTSTART:20211101T120000
TZNAME:CET
TZOFFSETTO:+0100
TZOFFSETFROM:+0100
END:STANDARD
END:VTIMEZONE
END:VCALENDAR
