BEGIN:VCALENDAR
PRODID:-//eluceo/ical//2.0/EN
VERSION:2.0
CALSCALE:GREGORIAN
BEGIN:VEVENT
UID:d48fe4450f992911efe189732af12262
DTSTAMP:20260421T145648Z
SUMMARY:Vortrag "Stadtentwicklung lokal: FABRIC Lörrach"
DESCRIPTION:Site internet: http://www.volkshaus-basel.ch\nConférencier(s):
  Dr. Tim Göbel\, geschäftsführender Vorstand\, Schöpflin-Stiftung
URL:https://rc-baselwettstein.ch/fr/agenda/show/126408
DTSTART;TZID=Europe/Zurich:20211129T120000
DTEND;TZID=Europe/Zurich:20211129T120000
LOCATION:Volkshaus\, Rebgasse 12-14\, 4058 Basel
CATEGORIES:Rotary
END:VEVENT
BEGIN:VTIMEZONE
TZID:Europe/Zurich
BEGIN:STANDARD
DTSTART:20211129T120000
TZNAME:CET
TZOFFSETTO:+0100
TZOFFSETFROM:+0100
END:STANDARD
END:VTIMEZONE
END:VCALENDAR
