BEGIN:VCALENDAR
PRODID:-//eluceo/ical//2.0/EN
VERSION:2.0
CALSCALE:GREGORIAN
BEGIN:VEVENT
UID:d38f0336e78c0f61c0c3a7c44075e271
DTSTAMP:20260421T150137Z
SUMMARY:Weihnachtsessen
DESCRIPTION:
URL:https://rc-baselwettstein.ch/fr/agenda/show/126412
DTSTART;TZID=Europe/Zurich:20211213T180000
DTEND;TZID=Europe/Zurich:20211213T220000
LOCATION:Museum Kleines Klingenthal\, Volkshaus
CATEGORIES:Rotary
END:VEVENT
BEGIN:VTIMEZONE
TZID:Europe/Zurich
BEGIN:STANDARD
DTSTART:20211213T180000
TZNAME:CET
TZOFFSETTO:+0100
TZOFFSETFROM:+0100
END:STANDARD
END:VTIMEZONE
END:VCALENDAR
