BEGIN:VCALENDAR
PRODID:-//eluceo/ical//2.0/EN
VERSION:2.0
CALSCALE:GREGORIAN
BEGIN:VEVENT
UID:36172ad303b4c86a6039fe6e7374292e
DTSTAMP:20260421T165158Z
SUMMARY:Foyer Public im Theater Basel
DESCRIPTION:Site internet: http://www.volkshaus-basel.ch\nConférencier(s):
  Benedikt von Peter\, Intendant Theater Basel
URL:https://rc-baselwettstein.ch/fr/agenda/show/135872
DTSTART;TZID=Europe/Zurich:20220117T120000
DTEND;TZID=Europe/Zurich:20220117T133000
LOCATION:Volkshaus\, Rebgasse 12-14\, 4058 Basel
CATEGORIES:Rotary
END:VEVENT
BEGIN:VTIMEZONE
TZID:Europe/Zurich
BEGIN:STANDARD
DTSTART:20220117T120000
TZNAME:CET
TZOFFSETTO:+0100
TZOFFSETFROM:+0100
END:STANDARD
END:VTIMEZONE
END:VCALENDAR
