BEGIN:VCALENDAR
PRODID:-//eluceo/ical//2.0/EN
VERSION:2.0
CALSCALE:GREGORIAN
BEGIN:VEVENT
UID:e50a2e2415053ec82eff0eb370bd3b75
DTSTAMP:20260421T165604Z
SUMMARY:Governor-Besuch
DESCRIPTION:Site internet: http://www.volkshaus-basel.ch\nConférencier(s):
  Rot. Ursula Schöpfer\, RC Allschwil
URL:https://rc-baselwettstein.ch/fr/agenda/show/135874
DTSTART;TZID=Europe/Zurich:20220131T120000
DTEND;TZID=Europe/Zurich:20220131T133000
LOCATION:Volkshaus\, Rebgasse 12-14\, 4058 Basel
CATEGORIES:Rotary
END:VEVENT
BEGIN:VTIMEZONE
TZID:Europe/Zurich
BEGIN:STANDARD
DTSTART:20220131T120000
TZNAME:CET
TZOFFSETTO:+0100
TZOFFSETFROM:+0100
END:STANDARD
END:VTIMEZONE
END:VCALENDAR
