BEGIN:VCALENDAR
PRODID:-//eluceo/ical//2.0/EN
VERSION:2.0
CALSCALE:GREGORIAN
BEGIN:VEVENT
UID:a20e51afdcf82c955fbc846340142c92
DTSTAMP:20260425T103037Z
SUMMARY:Plauderlunch
DESCRIPTION:Site internet: http://www.volkshaus-basel.ch\nConférencier(s):
  
URL:https://rc-baselwettstein.ch/fr/agenda/show/135875
DTSTART;TZID=Europe/Zurich:20220207T120000
DTEND;TZID=Europe/Zurich:20220207T133000
LOCATION:Volkshaus\, Rebgasse 12-14\, 4058 Basel
CATEGORIES:Rotary
END:VEVENT
BEGIN:VTIMEZONE
TZID:Europe/Zurich
BEGIN:STANDARD
DTSTART:20220207T120000
TZNAME:CET
TZOFFSETTO:+0100
TZOFFSETFROM:+0100
END:STANDARD
END:VTIMEZONE
END:VCALENDAR
