BEGIN:VCALENDAR
PRODID:-//eluceo/ical//2.0/EN
VERSION:2.0
CALSCALE:GREGORIAN
BEGIN:VEVENT
UID:4ea950c598adf8667df7dbaa61842d0f
DTSTAMP:20260421T182134Z
SUMMARY:SAO Association
DESCRIPTION:Site internet: http://www.volkshaus-basel.ch\nConférencier(s):
  Rot. Raquel Herzog
URL:https://rc-baselwettstein.ch/fr/agenda/show/140505
DTSTART;TZID=Europe/Zurich:20220502T120000
DTEND;TZID=Europe/Zurich:20220502T133000
LOCATION:Volkshaus\, Rebgasse 12-14\, 4058 Basel
CATEGORIES:Rotary
END:VEVENT
BEGIN:VTIMEZONE
TZID:Europe/Zurich
BEGIN:DAYLIGHT
DTSTART:20220502T120000
TZNAME:CEST
TZOFFSETTO:+0200
TZOFFSETFROM:+0200
END:DAYLIGHT
END:VTIMEZONE
END:VCALENDAR
