BEGIN:VCALENDAR
PRODID:-//eluceo/ical//2.0/EN
VERSION:2.0
CALSCALE:GREGORIAN
BEGIN:VEVENT
UID:70950109ac0b48c1f9bbf1d4574fc151
DTSTAMP:20260423T064439Z
SUMMARY:Plauderlunch\, Thema: Mitgliederinteressen
DESCRIPTION:Site internet: https://www.brauerei-basel.ch/
URL:https://rc-baselwettstein.ch/fr/agenda/show/144792
DTSTART;TZID=Europe/Zurich:20221010T120000
DTEND;TZID=Europe/Zurich:20221010T133000
LOCATION:Restaurant Brauerei (ENOTHEK)\, Grenzacherstrasse 60\, CH-4058 Bas
 el
CATEGORIES:Rotary
END:VEVENT
BEGIN:VTIMEZONE
TZID:Europe/Zurich
BEGIN:DAYLIGHT
DTSTART:20221010T120000
TZNAME:CEST
TZOFFSETTO:+0200
TZOFFSETFROM:+0200
END:DAYLIGHT
END:VTIMEZONE
END:VCALENDAR
