BEGIN:VCALENDAR
PRODID:-//eluceo/ical//2.0/EN
VERSION:2.0
CALSCALE:GREGORIAN
BEGIN:VEVENT
UID:cee4251f9be235ca625fdccc62a3e287
DTSTAMP:20260420T124653Z
SUMMARY:RCBW: Weihnachtsessen (gemäss versendeter Einladung)
DESCRIPTION:
URL:https://rc-baselwettstein.ch/fr/agenda/show/149041
DTSTART;TZID=Europe/Zurich:20221215T180000
DTEND;TZID=Europe/Zurich:20221215T230000
LOCATION:Volkshaus Basel\, Galeriesaal
CATEGORIES:Rotary
END:VEVENT
BEGIN:VTIMEZONE
TZID:Europe/Zurich
BEGIN:STANDARD
DTSTART:20221215T180000
TZNAME:CET
TZOFFSETTO:+0100
TZOFFSETFROM:+0100
END:STANDARD
END:VTIMEZONE
END:VCALENDAR
