BEGIN:VCALENDAR
PRODID:-//eluceo/ical//2.0/EN
VERSION:2.0
CALSCALE:GREGORIAN
BEGIN:VEVENT
UID:09da0c1083b6c39cf814a44e81715646
DTSTAMP:20260424T132121Z
SUMMARY:Lunchvortrag: "Medienarbeit als Brückenschlag zwischen Gesellschaf
 t und Unternehmen" Barbara von Schnurbein
DESCRIPTION:Site internet: https://www.brauerei-basel.ch/
URL:https://rc-baselwettstein.ch/fr/agenda/show/150474
DTSTART;TZID=Europe/Zurich:20221205T120000
DTEND;TZID=Europe/Zurich:20221205T133000
LOCATION:Restaurant Brauerei (ENOTHEK)\, Grenzacherstrasse 60\, CH-4058 Bas
 el
CATEGORIES:Rotary
END:VEVENT
BEGIN:VTIMEZONE
TZID:Europe/Zurich
BEGIN:STANDARD
DTSTART:20221205T120000
TZNAME:CET
TZOFFSETTO:+0100
TZOFFSETFROM:+0100
END:STANDARD
END:VTIMEZONE
END:VCALENDAR
