BEGIN:VCALENDAR
PRODID:-//eluceo/ical//2.0/EN
VERSION:2.0
CALSCALE:GREGORIAN
BEGIN:VEVENT
UID:5fcf770940541e04c6f548219f33b8b2
DTSTAMP:20260422T092502Z
SUMMARY:Neujahrsapero & Lunch:  RC Basel Wettstein lädt den RC Basel Dreil
 ändereck ein
DESCRIPTION:Site internet: https://volkshaus-basel.ch/
URL:https://rc-baselwettstein.ch/fr/agenda/show/150479
DTSTART;TZID=Europe/Zurich:20230109T114500
DTEND;TZID=Europe/Zurich:20230109T133000
LOCATION:Galleriesaal des Volkshauses Basel
CATEGORIES:Rotary
END:VEVENT
BEGIN:VTIMEZONE
TZID:Europe/Zurich
BEGIN:STANDARD
DTSTART:20230109T114500
TZNAME:CET
TZOFFSETTO:+0100
TZOFFSETFROM:+0100
END:STANDARD
END:VTIMEZONE
END:VCALENDAR
