BEGIN:VCALENDAR
PRODID:-//eluceo/ical//2.0/EN
VERSION:2.0
CALSCALE:GREGORIAN
BEGIN:VEVENT
UID:39016043376006ef662eb0b9022219c3
DTSTAMP:20260424T111444Z
SUMMARY:Konsequenzen & Implikationen moderner Daten-Technologien
DESCRIPTION:Site internet: http://www.volkshaus-basel.ch\nConférencier(s):
  Isabel Wagner: Professorin für Cybersecurity\, Uni Basel
URL:https://rc-baselwettstein.ch/fr/agenda/show/153546
DTSTART;TZID=Europe/Zurich:20230130T120000
DTEND;TZID=Europe/Zurich:20230130T133000
LOCATION:Galleriesaal\, Volkshaus\, Rebgasse 12-14\, 4058 Basel
CATEGORIES:Rotary
END:VEVENT
BEGIN:VTIMEZONE
TZID:Europe/Zurich
BEGIN:STANDARD
DTSTART:20230130T120000
TZNAME:CET
TZOFFSETTO:+0100
TZOFFSETFROM:+0100
END:STANDARD
END:VTIMEZONE
END:VCALENDAR
