BEGIN:VCALENDAR
PRODID:-//eluceo/ical//2.0/EN
VERSION:2.0
CALSCALE:GREGORIAN
BEGIN:VEVENT
UID:e8698efd3ad996da1997ae18ae426e58
DTSTAMP:20260424T100129Z
SUMMARY:RCBW Plauderlunch Vortrag Prof. Dr. Roland Bingisser
DESCRIPTION:Conférencier(s): Prof. Dr. Roland Bingisser
URL:https://rc-baselwettstein.ch/fr/agenda/show/164992
DTSTART;TZID=Europe/Zurich:20231113T120000
DTEND;TZID=Europe/Zurich:20231113T133000
LOCATION:Enothek Siebe Dupf\, Grenzacherstrasse 62\, 4058 Basel\, Schweiz
CATEGORIES:Rotary
END:VEVENT
BEGIN:VTIMEZONE
TZID:Europe/Zurich
BEGIN:STANDARD
DTSTART:20231113T120000
TZNAME:CET
TZOFFSETTO:+0100
TZOFFSETFROM:+0100
END:STANDARD
END:VTIMEZONE
END:VCALENDAR
