BEGIN:VCALENDAR
PRODID:-//eluceo/ical//2.0/EN
VERSION:2.0
CALSCALE:GREGORIAN
BEGIN:VEVENT
UID:630dbac64a887ba8c0a3faacbb8b40b1
DTSTAMP:20260422T051034Z
SUMMARY:Präsentation Patrick Villiger Geschäftsführer Aluminium Laufen A
 G
DESCRIPTION:Sito web: http://www.volkshaus-basel.ch
URL:https://rc-baselwettstein.ch/it/agenda/show/119402
DTSTART;TZID=Europe/Zurich:20210628T121500
DTEND;TZID=Europe/Zurich:20210628T130500
LOCATION:Volkshaus\, Rebgasse 12-14\, 4058 Basel
CATEGORIES:Rotary
END:VEVENT
BEGIN:VTIMEZONE
TZID:Europe/Zurich
BEGIN:DAYLIGHT
DTSTART:20210628T121500
TZNAME:CEST
TZOFFSETTO:+0200
TZOFFSETFROM:+0200
END:DAYLIGHT
END:VTIMEZONE
END:VCALENDAR
