BEGIN:VCALENDAR
PRODID:-//eluceo/ical//2.0/EN
VERSION:2.0
CALSCALE:GREGORIAN
BEGIN:VEVENT
UID:a4eb6ee1940f49f5832ed52d743077b2
DTSTAMP:20260424T112221Z
SUMMARY:Sneak-Preview auf den Novartis-Pavillon
DESCRIPTION:Sito web: http://www.volkshaus-basel.ch\nRelatore/i: Marcel Bra
 un\, Novartis AG
URL:https://rc-baselwettstein.ch/it/agenda/show/138922
DTSTART;TZID=Europe/Zurich:20220411T120000
DTEND;TZID=Europe/Zurich:20220411T133000
LOCATION:Volkshaus\, Rebgasse 12-14\, 4058 Basel
CATEGORIES:Rotary
END:VEVENT
BEGIN:VTIMEZONE
TZID:Europe/Zurich
BEGIN:DAYLIGHT
DTSTART:20220411T120000
TZNAME:CEST
TZOFFSETTO:+0200
TZOFFSETFROM:+0200
END:DAYLIGHT
END:VTIMEZONE
END:VCALENDAR
