BEGIN:VCALENDAR
PRODID:-//eluceo/ical//2.0/EN
VERSION:2.0
CALSCALE:GREGORIAN
BEGIN:VEVENT
UID:fc4c007a32dbdfe1e266c7ba6e9f8875
DTSTAMP:20260422T035334Z
SUMMARY:Ukraine-Krieg: Herausforderung für ein Schweizer Unternehmen mit S
 tandorten in der Ukraine und Russland
DESCRIPTION:Sito web: http://www.volkshaus-basel.ch\nRelatore/i: Rot. Marti
 n Brettenthaler
URL:https://rc-baselwettstein.ch/it/agenda/show/140299
DTSTART;TZID=Europe/Zurich:20220404T120000
DTEND;TZID=Europe/Zurich:20220413T133000
LOCATION:Volkshaus\, Rebgasse 12-14\, 4058 Basel
CATEGORIES:Rotary
END:VEVENT
BEGIN:VTIMEZONE
TZID:Europe/Zurich
BEGIN:DAYLIGHT
DTSTART:20220404T120000
TZNAME:CEST
TZOFFSETTO:+0200
TZOFFSETFROM:+0200
END:DAYLIGHT
END:VTIMEZONE
END:VCALENDAR
