BEGIN:VCALENDAR
PRODID:-//eluceo/ical//2.0/EN
VERSION:2.0
CALSCALE:GREGORIAN
BEGIN:VEVENT
UID:74078a3b218ce4c9d42efdbf1840a709
DTSTAMP:20260424T142911Z
SUMMARY:Klassifikationsvortrag Kamilla Schatz
DESCRIPTION:Webbplats: http://www.volkshaus-basel.ch\nTalare: Kamilla Schat
 z\, Gründerin Pestalozzi Schulcamps
URL:https://rc-baselwettstein.ch/sv/agenda/show/153549
DTSTART;TZID=Europe/Zurich:20230206T120000
DTEND;TZID=Europe/Zurich:20230206T133000
LOCATION:Galleriesaal\, Volkshaus\, Rebgasse 12-14\, 4058 Basel
CATEGORIES:Rotary
END:VEVENT
BEGIN:VTIMEZONE
TZID:Europe/Zurich
BEGIN:STANDARD
DTSTART:20230206T120000
TZNAME:CET
TZOFFSETTO:+0100
TZOFFSETFROM:+0100
END:STANDARD
END:VTIMEZONE
END:VCALENDAR
