BEGIN:VCALENDAR
PRODID:-//eluceo/ical//2.0/EN
VERSION:2.0
CALSCALE:GREGORIAN
BEGIN:VEVENT
UID:ee356c99a051231d7ca38e31148fbc2a
DTSTAMP:20260424T113136Z
SUMMARY:RCBW: Plauderlunch
DESCRIPTION:Webbplats: http://www.volkshaus-basel.ch\nTalare: n/a
URL:https://rc-baselwettstein.ch/sv/agenda/show/153552
DTSTART;TZID=Europe/Zurich:20230220T120000
DTEND;TZID=Europe/Zurich:20230220T133000
LOCATION:Galleriesaal\, Volkshaus\, Rebgasse 12-14\, 4058 Basel
CATEGORIES:Rotary
END:VEVENT
BEGIN:VTIMEZONE
TZID:Europe/Zurich
BEGIN:STANDARD
DTSTART:20230220T120000
TZNAME:CET
TZOFFSETTO:+0100
TZOFFSETFROM:+0100
END:STANDARD
END:VTIMEZONE
END:VCALENDAR
