BEGIN:VCALENDAR
PRODID:-//eluceo/ical//2.0/EN
VERSION:2.0
CALSCALE:GREGORIAN
BEGIN:VEVENT
UID:342892b7661450de6f8f621e224daeff
DTSTAMP:20260422T043648Z
SUMMARY:Morgenstraich\, KEIN RCBW Lunch
DESCRIPTION:
URL:https://rc-baselwettstein.ch/sv/agenda/show/153553
DTSTART;TZID=Europe/Zurich:20230227T120000
DTEND;TZID=Europe/Zurich:20230227T120000
LOCATION:heute findet kein Lunch statt
CATEGORIES:Rotary
END:VEVENT
BEGIN:VTIMEZONE
TZID:Europe/Zurich
BEGIN:STANDARD
DTSTART:20230227T120000
TZNAME:CET
TZOFFSETTO:+0100
TZOFFSETFROM:+0100
END:STANDARD
END:VTIMEZONE
END:VCALENDAR
