BEGIN:VCALENDAR
PRODID:-//eluceo/ical//2.0/EN
VERSION:2.0
CALSCALE:GREGORIAN
BEGIN:VEVENT
UID:736ee5da5463453f95e5c07c3a76c8ec
DTSTAMP:20260422T044726Z
SUMMARY:RCBW: Plauderlunch
DESCRIPTION:Webbplats: http://www.volkshaus-basel.ch
URL:https://rc-baselwettstein.ch/sv/agenda/show/158003
DTSTART;TZID=Europe/Zurich:20230403T120000
DTEND;TZID=Europe/Zurich:20230403T133000
LOCATION:Galleriesaal\, Volkshaus\, Rebgasse 12-14\, 4058 Basel
CATEGORIES:Rotary
END:VEVENT
BEGIN:VTIMEZONE
TZID:Europe/Zurich
BEGIN:DAYLIGHT
DTSTART:20230403T120000
TZNAME:CEST
TZOFFSETTO:+0200
TZOFFSETFROM:+0200
END:DAYLIGHT
END:VTIMEZONE
END:VCALENDAR
