BEGIN:VCALENDAR
PRODID:-//eluceo/ical//2.0/EN
VERSION:2.0
CALSCALE:GREGORIAN
BEGIN:VEVENT
UID:d49649beb43a1ef22ca058aad6399042
DTSTAMP:20260422T044228Z
SUMMARY:Ostermontag: KEIN RCBW Lunch
DESCRIPTION:Webbplats: http://www.volkshaus-basel.ch
URL:https://rc-baselwettstein.ch/sv/agenda/show/158004
DTSTART;TZID=Europe/Zurich:20230410T120000
DTEND;TZID=Europe/Zurich:20230410T120000
LOCATION:-
CATEGORIES:Rotary
END:VEVENT
BEGIN:VTIMEZONE
TZID:Europe/Zurich
BEGIN:DAYLIGHT
DTSTART:20230410T120000
TZNAME:CEST
TZOFFSETTO:+0200
TZOFFSETFROM:+0200
END:DAYLIGHT
END:VTIMEZONE
END:VCALENDAR
