BEGIN:VCALENDAR
PRODID:-//eluceo/ical//2.0/EN
VERSION:2.0
CALSCALE:GREGORIAN
BEGIN:VEVENT
UID:f793159fc3f9349a013e65710d7f4352
DTSTAMP:20260422T030635Z
SUMMARY:Tag der Arbeit: KEIN RCBW Lunch
DESCRIPTION:Webbplats: http://www.volkshaus-basel.ch
URL:https://rc-baselwettstein.ch/sv/agenda/show/158005
DTSTART;TZID=Europe/Zurich:20230501T120000
DTEND;TZID=Europe/Zurich:20230501T120000
LOCATION:-
CATEGORIES:Rotary
END:VEVENT
BEGIN:VTIMEZONE
TZID:Europe/Zurich
BEGIN:DAYLIGHT
DTSTART:20230501T120000
TZNAME:CEST
TZOFFSETTO:+0200
TZOFFSETFROM:+0200
END:DAYLIGHT
END:VTIMEZONE
END:VCALENDAR
