BEGIN:VCALENDAR
PRODID:-//eluceo/ical//2.0/EN
VERSION:2.0
CALSCALE:GREGORIAN
BEGIN:VEVENT
UID:d6f90f9bbd6a746440d18a53ed2ee65f
DTSTAMP:20260422T062216Z
SUMMARY:RCBW-Lunch: Ausblick auf das Programm des aktuellen Jahres
DESCRIPTION:Webbplats: http://www.volkshaus-basel.ch\nTalare: Peter Neumann
URL:https://rc-baselwettstein.ch/sv/agenda/show/158084
DTSTART;TZID=Europe/Zurich:20230417T120000
DTEND;TZID=Europe/Zurich:20230417T133000
LOCATION:Galleriesaal\, Volkshaus\, Rebgasse 12-14\, 4058 Basel
CATEGORIES:Rotary
END:VEVENT
BEGIN:VTIMEZONE
TZID:Europe/Zurich
BEGIN:DAYLIGHT
DTSTART:20230417T120000
TZNAME:CEST
TZOFFSETTO:+0200
TZOFFSETFROM:+0200
END:DAYLIGHT
END:VTIMEZONE
END:VCALENDAR
