BEGIN:VCALENDAR
PRODID:-//eluceo/ical//2.0/EN
VERSION:2.0
CALSCALE:GREGORIAN
BEGIN:VEVENT
UID:0dfacf5971893ebf860536e535f00499
DTSTAMP:20260422T044324Z
SUMMARY:RCBW: Plauder-Lunch
DESCRIPTION:Webbplats: http://www.volkshaus-basel.ch\nTalare: tbd
URL:https://rc-baselwettstein.ch/sv/agenda/show/158086
DTSTART;TZID=Europe/Zurich:20230424T120000
DTEND;TZID=Europe/Zurich:20230424T133000
LOCATION:Galleriesaal\, Volkshaus\, Rebgasse 12-14\, 4058 Basel
CATEGORIES:Rotary
END:VEVENT
BEGIN:VTIMEZONE
TZID:Europe/Zurich
BEGIN:DAYLIGHT
DTSTART:20230424T120000
TZNAME:CEST
TZOFFSETTO:+0200
TZOFFSETFROM:+0200
END:DAYLIGHT
END:VTIMEZONE
END:VCALENDAR
