BEGIN:VCALENDAR
PRODID:-//eluceo/ical//2.0/EN
VERSION:2.0
CALSCALE:GREGORIAN
BEGIN:VEVENT
UID:90da2205a72404692a3145403ebdd3c9
DTSTAMP:20260422T030334Z
SUMMARY:RCBW-Lunch: Rückmeldung aus dem Unterricht vom "Zauberkoffer"
DESCRIPTION:Webbplats: http://www.volkshaus-basel.ch\nTalare: Andrea Flamme
 r\, Lehrerin Sevogel Schulhaus
URL:https://rc-baselwettstein.ch/sv/agenda/show/158087
DTSTART;TZID=Europe/Zurich:20230508T120000
DTEND;TZID=Europe/Zurich:20230508T133000
LOCATION:Galleriesaal\, Volkshaus\, Rebgasse 12-14\, 4058 Basel
CATEGORIES:Rotary
END:VEVENT
BEGIN:VTIMEZONE
TZID:Europe/Zurich
BEGIN:DAYLIGHT
DTSTART:20230508T120000
TZNAME:CEST
TZOFFSETTO:+0200
TZOFFSETFROM:+0200
END:DAYLIGHT
END:VTIMEZONE
END:VCALENDAR
