BEGIN:VCALENDAR
PRODID:-//eluceo/ical//2.0/EN
VERSION:2.0
CALSCALE:GREGORIAN
BEGIN:VEVENT
UID:1620674754207f879d7ca716e9046bf4
DTSTAMP:20260422T043837Z
SUMMARY:RCBW-Lunch: Reisebericht aus Kolumbien
DESCRIPTION:Webbplats: http://www.volkshaus-basel.ch\nTalare: Moritz Schwei
 ghauser
URL:https://rc-baselwettstein.ch/sv/agenda/show/159050
DTSTART;TZID=Europe/Zurich:20230522T120000
DTEND;TZID=Europe/Zurich:20230522T133000
LOCATION:Galleriesaal\, Volkshaus\, Rebgasse 12-14\, 4058 Basel
CATEGORIES:Rotary
END:VEVENT
BEGIN:VTIMEZONE
TZID:Europe/Zurich
BEGIN:DAYLIGHT
DTSTART:20230522T120000
TZNAME:CEST
TZOFFSETTO:+0200
TZOFFSETFROM:+0200
END:DAYLIGHT
END:VTIMEZONE
END:VCALENDAR
