BEGIN:VCALENDAR
PRODID:-//eluceo/ical//2.0/EN
VERSION:2.0
CALSCALE:GREGORIAN
BEGIN:VEVENT
UID:c034485aba624d3e55dce14c6a2e116d
DTSTAMP:20260423T235125Z
SUMMARY:Das Zusammenkochbuch 2. Event
DESCRIPTION:Webbplats: https://www.schaellenursli.ch/
URL:https://rc-baselwettstein.ch/sv/agenda/show/162866
DTSTART;TZID=Europe/Zurich:20230918T180000
DTEND;TZID=Europe/Zurich:20230918T220000
LOCATION:Rest. Schällenursli\, Margarethengut\, 4102 Binningen
CATEGORIES:Rotary
END:VEVENT
BEGIN:VTIMEZONE
TZID:Europe/Zurich
BEGIN:DAYLIGHT
DTSTART:20230918T180000
TZNAME:CEST
TZOFFSETTO:+0200
TZOFFSETFROM:+0200
END:DAYLIGHT
END:VTIMEZONE
END:VCALENDAR
