BEGIN:VCALENDAR
PRODID:-//eluceo/ical//2.0/EN
VERSION:2.0
CALSCALE:GREGORIAN
BEGIN:VEVENT
UID:4e7045eae6bae70e4f3c8a1fc9d84621
DTSTAMP:20260424T011731Z
SUMMARY:RCBW Plauderlunch
DESCRIPTION:
URL:https://rc-baselwettstein.ch/sv/agenda/show/164981
DTSTART;TZID=Europe/Zurich:20230911T120000
DTEND;TZID=Europe/Zurich:20230911T133000
LOCATION:Enothek Siebe Dupf\, Grenzacherstrasse 62\, 4058 Basel\, Schweiz
CATEGORIES:Rotary
END:VEVENT
BEGIN:VTIMEZONE
TZID:Europe/Zurich
BEGIN:DAYLIGHT
DTSTART:20230911T120000
TZNAME:CEST
TZOFFSETTO:+0200
TZOFFSETFROM:+0200
END:DAYLIGHT
END:VTIMEZONE
END:VCALENDAR
